BEGIN:VCALENDAR
VERSION:2.0
CALSCALE:GREGORIAN
BEGIN:VEVENT
URL:https://www.learndesk.us/class/4898669381812224/real-time-spark-project-for-beginners-hadoop-spark-docker?ref=outlook-calendar
SUMMARY:Real-Time Spark Project for Beginners: Hadoop, Spark, Docker
DTSTART;TZID=America/Los_Angeles:20260422T190000
DTEND;TZID=America/Los_Angeles:20260422T200000
LOCATION:https://www.learndesk.us/class/4898669381812224/real-time-spark-project-for-beginners-hadoop-spark-docker?ref=outlook-calendar
DESCRIPTION: In many data centers, a different type of server generates a large amount of data (events, in this case, is the status of the server in the data center) in real-time. There is always a need to process these data in real-time and generate insights that will be used by the server/data center monitoring people and they have to track these server's status regularly and find the resolution in case of issues occurring, for better server stability. Since the data is huge and coming in real-time, we need to choose the right architecture with scalable storage and computation frameworks/technologies.
Hence we want to build the real-time data pipeline using Apache Kafka, Apache Spark, Hadoop, PostgreSQL, Django, and Flexmonster on Docker to generate insights out of this data. The Spark Project/Data Pipeline is built using Apache Spark with Scala and PySpark on Apache Hadoop Cluster which is on top of Docker. Data visualization is built using the Django web framework and Flexmonster.

https://www.learndesk.us/class/4898669381812224/real-time-spark-project-for-beginners-hadoop-spark-docker?ref=outlook-calendar
STATUS:CONFIRMED
SEQUENCE:3
BEGIN:VALARM
TRIGGER:-PT10M
DESCRIPTION:Class Reminder
ACTION:DISPLAY
END:VALARM
END:VEVENT
END:VCALENDAR