BEGIN:VCALENDAR
VERSION:2.0
CALSCALE:GREGORIAN
BEGIN:VEVENT
URL:https://www.learndesk.us/class/4895434520657920/lesson/fcdc8e399b0a4f252f8135186b844583?ref=outlook-calendar
SUMMARY:Lighting and Rendering
DTSTART;TZID=America/Los_Angeles:20260420T190000
DTEND;TZID=America/Los_Angeles:20260420T200000
LOCATION:https://www.learndesk.us/class/4895434520657920/lesson/fcdc8e399b0a4f252f8135186b844583?ref=outlook-calendar
DESCRIPTION: https://www.learndesk.us/class/4895434520657920/lesson/fcdc8e399b0a4f252f8135186b844583?ref=outlook-calendar
STATUS:CONFIRMED
SEQUENCE:3
BEGIN:VALARM
TRIGGER:-PT10M
DESCRIPTION:Class Reminder
ACTION:DISPLAY
END:VALARM
END:VEVENT
END:VCALENDAR