BEGIN:VCALENDAR
VERSION:2.0
CALSCALE:GREGORIAN
BEGIN:VEVENT
URL:https://www.learndesk.us/class/4895434520657920/lesson/e88542733c8571419ba6c9efaa45853f?ref=outlook-calendar
SUMMARY:Basic mesh editing
DTSTART;TZID=America/Los_Angeles:20260420T190000
DTEND;TZID=America/Los_Angeles:20260420T200000
LOCATION:https://www.learndesk.us/class/4895434520657920/lesson/e88542733c8571419ba6c9efaa45853f?ref=outlook-calendar
DESCRIPTION: https://www.learndesk.us/class/4895434520657920/lesson/e88542733c8571419ba6c9efaa45853f?ref=outlook-calendar
STATUS:CONFIRMED
SEQUENCE:3
BEGIN:VALARM
TRIGGER:-PT10M
DESCRIPTION:Class Reminder
ACTION:DISPLAY
END:VALARM
END:VEVENT
END:VCALENDAR