BEGIN:VCALENDAR
VERSION:2.0
CALSCALE:GREGORIAN
BEGIN:VEVENT
URL:https://www.learndesk.us/class/4895434520657920/lesson/d4cfb82f57c5d2fd9c61e3fc157b353e?ref=outlook-calendar
SUMMARY:Loop and Ring selection
DTSTART;TZID=America/Los_Angeles:20260420T190000
DTEND;TZID=America/Los_Angeles:20260420T200000
LOCATION:https://www.learndesk.us/class/4895434520657920/lesson/d4cfb82f57c5d2fd9c61e3fc157b353e?ref=outlook-calendar
DESCRIPTION: https://www.learndesk.us/class/4895434520657920/lesson/d4cfb82f57c5d2fd9c61e3fc157b353e?ref=outlook-calendar
STATUS:CONFIRMED
SEQUENCE:3
BEGIN:VALARM
TRIGGER:-PT10M
DESCRIPTION:Class Reminder
ACTION:DISPLAY
END:VALARM
END:VEVENT
END:VCALENDAR