BEGIN:VCALENDAR
VERSION:2.0
CALSCALE:GREGORIAN
BEGIN:VEVENT
URL:https://www.learndesk.us/class/4895434520657920/lesson/ba8577d17c2292f09d26d5f045a9ea93?ref=outlook-calendar
SUMMARY:UI introduction
DTSTART;TZID=America/Los_Angeles:20260422T190000
DTEND;TZID=America/Los_Angeles:20260422T200000
LOCATION:https://www.learndesk.us/class/4895434520657920/lesson/ba8577d17c2292f09d26d5f045a9ea93?ref=outlook-calendar
DESCRIPTION: https://www.learndesk.us/class/4895434520657920/lesson/ba8577d17c2292f09d26d5f045a9ea93?ref=outlook-calendar
STATUS:CONFIRMED
SEQUENCE:3
BEGIN:VALARM
TRIGGER:-PT10M
DESCRIPTION:Class Reminder
ACTION:DISPLAY
END:VALARM
END:VEVENT
END:VCALENDAR