BEGIN:VCALENDAR
VERSION:2.0
CALSCALE:GREGORIAN
BEGIN:VEVENT
URL:https://www.learndesk.us/class/4895434520657920/lesson/ae1377385527482ed60be13b74a970ff?ref=outlook-calendar
SUMMARY:The calf
DTSTART;TZID=America/Los_Angeles:20260420T190000
DTEND;TZID=America/Los_Angeles:20260420T200000
LOCATION:https://www.learndesk.us/class/4895434520657920/lesson/ae1377385527482ed60be13b74a970ff?ref=outlook-calendar
DESCRIPTION: https://www.learndesk.us/class/4895434520657920/lesson/ae1377385527482ed60be13b74a970ff?ref=outlook-calendar
STATUS:CONFIRMED
SEQUENCE:3
BEGIN:VALARM
TRIGGER:-PT10M
DESCRIPTION:Class Reminder
ACTION:DISPLAY
END:VALARM
END:VEVENT
END:VCALENDAR