BEGIN:VCALENDAR
VERSION:2.0
CALSCALE:GREGORIAN
BEGIN:VEVENT
URL:https://www.learndesk.us/class/4895434520657920/blender-2-8x-fundamentals-basic-3d-modeling-and-look-development?ref=outlook-calendar
SUMMARY:Blender 2.8x Fundamentals: Basic 3D Modeling and Look Development
DTSTART;TZID=America/Los_Angeles:20260420T190000
DTEND;TZID=America/Los_Angeles:20260420T200000
LOCATION:https://www.learndesk.us/class/4895434520657920/blender-2-8x-fundamentals-basic-3d-modeling-and-look-development?ref=outlook-calendar
DESCRIPTION: 
If you want to learn 3D from zero, meaning no prior experience needed at all. Then you’ve come to the right place. This course will teach you the fundamentals of 3D skills using Blender 2.8 or above. The curriculum in this course is carefully designed so that students can learn gradually from the easiest lesson to the more advanced lessons, seamlessly.
After completing this course you should be able to model a robot like this, add materials to it, create lights, and then render it using the EEVEE rendering engine.
What will you learn in this course?
You are going to learn so many things in this course. They are just too many to cover in this short introductory article. But just for a quick summary. The course is divided into 4 parts.
Part 1: Blender essentials

Blender’s UI
Viewport navigation
Basic object operations
Basic transformation
Interaction modes
Basic mesh editing

Part 2: Look development

Viewport shading modes
Rendering engines
Creating and using materials
Basic CG...

https://www.learndesk.us/class/4895434520657920/blender-2-8x-fundamentals-basic-3d-modeling-and-look-development?ref=outlook-calendar
STATUS:CONFIRMED
SEQUENCE:3
BEGIN:VALARM
TRIGGER:-PT10M
DESCRIPTION:Class Reminder
ACTION:DISPLAY
END:VALARM
END:VEVENT
END:VCALENDAR