BEGIN:VCALENDAR
VERSION:2.0
CALSCALE:GREGORIAN
BEGIN:VEVENT
URL:https://www.learndesk.us/class/4890772383989760/lesson/fb1389624b2cd2ae81db42f7716f31a6?ref=outlook-calendar
SUMMARY:Video - Rearm the 30-day Evaluation for Windows 10
DTSTART;TZID=America/Los_Angeles:20260421T190000
DTEND;TZID=America/Los_Angeles:20260421T200000
LOCATION:https://www.learndesk.us/class/4890772383989760/lesson/fb1389624b2cd2ae81db42f7716f31a6?ref=outlook-calendar
DESCRIPTION: In this short video presentation, you will quickly learn how to hack the Windows registry to extend the 30-day evaluation for Windows 7, 8.1 or Windows 10. This will allow you to rearm your Windows 10 for a total of 8 times or 240 days. You have 3 initial rearm attempts totally 90 days.  90+240 = 360 days.

https://www.learndesk.us/class/4890772383989760/lesson/fb1389624b2cd2ae81db42f7716f31a6?ref=outlook-calendar
STATUS:CONFIRMED
SEQUENCE:3
BEGIN:VALARM
TRIGGER:-PT10M
DESCRIPTION:Class Reminder
ACTION:DISPLAY
END:VALARM
END:VEVENT
END:VCALENDAR