BEGIN:VCALENDAR
VERSION:2.0
CALSCALE:GREGORIAN
BEGIN:VEVENT
URL:https://www.learndesk.us/class/4890772383989760/lesson/cfc1cfdb845f012a6f8395cf9bb68660?ref=outlook-calendar
SUMMARY:Step 4: Promote Server 2019 as a Domain Controller Using PowerShell
DTSTART;TZID=America/Los_Angeles:20260421T190000
DTEND;TZID=America/Los_Angeles:20260421T200000
LOCATION:https://www.learndesk.us/class/4890772383989760/lesson/cfc1cfdb845f012a6f8395cf9bb68660?ref=outlook-calendar
DESCRIPTION: In this short video presentation, you will learn how to prepare and promote Server Core to a domain controller. The steps are shown in this lab apply to Server 2012, 2016, and 2019.

https://www.learndesk.us/class/4890772383989760/lesson/cfc1cfdb845f012a6f8395cf9bb68660?ref=outlook-calendar
STATUS:CONFIRMED
SEQUENCE:3
BEGIN:VALARM
TRIGGER:-PT10M
DESCRIPTION:Class Reminder
ACTION:DISPLAY
END:VALARM
END:VEVENT
END:VCALENDAR