BEGIN:VCALENDAR
VERSION:2.0
CALSCALE:GREGORIAN
BEGIN:VEVENT
URL:https://www.learndesk.us/class/4890772383989760/lesson/c96e74ca12249fe8ec0dd54afb2badeb?ref=outlook-calendar
SUMMARY:Start here.....Course overview video!
DTSTART;TZID=America/Los_Angeles:20260421T190000
DTEND;TZID=America/Los_Angeles:20260421T200000
LOCATION:https://www.learndesk.us/class/4890772383989760/lesson/c96e74ca12249fe8ec0dd54afb2badeb?ref=outlook-calendar
DESCRIPTION: A short course overview of what to expect and when you enroll for this course.

https://www.learndesk.us/class/4890772383989760/lesson/c96e74ca12249fe8ec0dd54afb2badeb?ref=outlook-calendar
STATUS:CONFIRMED
SEQUENCE:3
BEGIN:VALARM
TRIGGER:-PT10M
DESCRIPTION:Class Reminder
ACTION:DISPLAY
END:VALARM
END:VEVENT
END:VCALENDAR