BEGIN:VCALENDAR
VERSION:2.0
CALSCALE:GREGORIAN
BEGIN:VEVENT
URL:https://www.learndesk.us/class/4890772383989760/lesson/c7c4d6d8aa432eb6329346d7cbf154eb?ref=outlook-calendar
SUMMARY:Active Directory Administration
DTSTART;TZID=America/Los_Angeles:20260421T190000
DTEND;TZID=America/Los_Angeles:20260421T200000
LOCATION:https://www.learndesk.us/class/4890772383989760/lesson/c7c4d6d8aa432eb6329346d7cbf154eb?ref=outlook-calendar
DESCRIPTION: How to manage objects within Active Directory.

https://www.learndesk.us/class/4890772383989760/lesson/c7c4d6d8aa432eb6329346d7cbf154eb?ref=outlook-calendar
STATUS:CONFIRMED
SEQUENCE:3
BEGIN:VALARM
TRIGGER:-PT10M
DESCRIPTION:Class Reminder
ACTION:DISPLAY
END:VALARM
END:VEVENT
END:VCALENDAR