BEGIN:VCALENDAR
VERSION:2.0
CALSCALE:GREGORIAN
BEGIN:VEVENT
URL:https://www.learndesk.us/class/4890772383989760/lesson/c6c15e90a64c444fe8195924f0e7656d?ref=outlook-calendar
SUMMARY:Video - Create a shared folder Using Windows Server
DTSTART;TZID=America/Los_Angeles:20260421T190000
DTEND;TZID=America/Los_Angeles:20260421T200000
LOCATION:https://www.learndesk.us/class/4890772383989760/lesson/c6c15e90a64c444fe8195924f0e7656d?ref=outlook-calendar
DESCRIPTION: In this short video presentation, you will learn how to create a network share using Windows Server.

https://www.learndesk.us/class/4890772383989760/lesson/c6c15e90a64c444fe8195924f0e7656d?ref=outlook-calendar
STATUS:CONFIRMED
SEQUENCE:3
BEGIN:VALARM
TRIGGER:-PT10M
DESCRIPTION:Class Reminder
ACTION:DISPLAY
END:VALARM
END:VEVENT
END:VCALENDAR