BEGIN:VCALENDAR
VERSION:2.0
CALSCALE:GREGORIAN
BEGIN:VEVENT
URL:https://www.learndesk.us/class/4890772383989760/lesson/c314eb2d248e9a324261ed77835a3001?ref=outlook-calendar
SUMMARY:Video - NTDSUTIL: Resetting the Directory Services Recovery Mode Password
DTSTART;TZID=America/Los_Angeles:20260421T190000
DTEND;TZID=America/Los_Angeles:20260421T200000
LOCATION:https://www.learndesk.us/class/4890772383989760/lesson/c314eb2d248e9a324261ed77835a3001?ref=outlook-calendar
DESCRIPTION: In this short video presentation, you will learn how to use the NTDSUTIL to recover a lost or forgotten Active Directory Services Recovery Mode (ADRM) password.

https://www.learndesk.us/class/4890772383989760/lesson/c314eb2d248e9a324261ed77835a3001?ref=outlook-calendar
STATUS:CONFIRMED
SEQUENCE:3
BEGIN:VALARM
TRIGGER:-PT10M
DESCRIPTION:Class Reminder
ACTION:DISPLAY
END:VALARM
END:VEVENT
END:VCALENDAR