BEGIN:VCALENDAR
VERSION:2.0
CALSCALE:GREGORIAN
BEGIN:VEVENT
URL:https://www.learndesk.us/class/4890772383989760/lesson/bfd151fd39056618a382b048a8b4f7d0?ref=outlook-calendar
SUMMARY:Create Your Lab Environment Using VirtualBox
DTSTART;TZID=America/Los_Angeles:20260421T190000
DTEND;TZID=America/Los_Angeles:20260421T200000
LOCATION:https://www.learndesk.us/class/4890772383989760/lesson/bfd151fd39056618a382b048a8b4f7d0?ref=outlook-calendar
DESCRIPTION: Build a working lab environment using VirtualBox.

https://www.learndesk.us/class/4890772383989760/lesson/bfd151fd39056618a382b048a8b4f7d0?ref=outlook-calendar
STATUS:CONFIRMED
SEQUENCE:3
BEGIN:VALARM
TRIGGER:-PT10M
DESCRIPTION:Class Reminder
ACTION:DISPLAY
END:VALARM
END:VEVENT
END:VCALENDAR