BEGIN:VCALENDAR
VERSION:2.0
CALSCALE:GREGORIAN
BEGIN:VEVENT
URL:https://www.learndesk.us/class/4890772383989760/lesson/bc554050d5361561833ce731dd3aebb9?ref=outlook-calendar
SUMMARY:Step 3: Install the active Directory Domain Services Role Using Powershell
DTSTART;TZID=America/Los_Angeles:20260421T190000
DTEND;TZID=America/Los_Angeles:20260421T200000
LOCATION:https://www.learndesk.us/class/4890772383989760/lesson/bc554050d5361561833ce731dd3aebb9?ref=outlook-calendar
DESCRIPTION: In this short video presentation, you will learn how to install the ADDS role using PowerShell. This role is needed to install the Active Directory management tools and prepare the server for promotion to a domain controller.

https://www.learndesk.us/class/4890772383989760/lesson/bc554050d5361561833ce731dd3aebb9?ref=outlook-calendar
STATUS:CONFIRMED
SEQUENCE:3
BEGIN:VALARM
TRIGGER:-PT10M
DESCRIPTION:Class Reminder
ACTION:DISPLAY
END:VALARM
END:VEVENT
END:VCALENDAR