BEGIN:VCALENDAR
VERSION:2.0
CALSCALE:GREGORIAN
BEGIN:VEVENT
URL:https://www.learndesk.us/class/4890772383989760/lesson/b9a895c6650451c3d115b469149cb0cf?ref=outlook-calendar
SUMMARY:Video - Disable the complex password policy in Windows Server
DTSTART;TZID=America/Los_Angeles:20260421T190000
DTEND;TZID=America/Los_Angeles:20260421T200000
LOCATION:https://www.learndesk.us/class/4890772383989760/lesson/b9a895c6650451c3d115b469149cb0cf?ref=outlook-calendar
DESCRIPTION: In this short video presentation, you will learn how to disable the complex password policy in Windows server domain.

https://www.learndesk.us/class/4890772383989760/lesson/b9a895c6650451c3d115b469149cb0cf?ref=outlook-calendar
STATUS:CONFIRMED
SEQUENCE:3
BEGIN:VALARM
TRIGGER:-PT10M
DESCRIPTION:Class Reminder
ACTION:DISPLAY
END:VALARM
END:VEVENT
END:VCALENDAR