BEGIN:VCALENDAR
VERSION:2.0
CALSCALE:GREGORIAN
BEGIN:VEVENT
URL:https://www.learndesk.us/class/4890772383989760/lesson/ab839bf8a2d572ac14d3e9d71299e645?ref=outlook-calendar
SUMMARY:video - Create a User in Active Directory
DTSTART;TZID=America/Los_Angeles:20260421T190000
DTEND;TZID=America/Los_Angeles:20260421T200000
LOCATION:https://www.learndesk.us/class/4890772383989760/lesson/ab839bf8a2d572ac14d3e9d71299e645?ref=outlook-calendar
DESCRIPTION: In this short video presentation, you will learn how to create a new user in Active directory for Server 2019.

https://www.learndesk.us/class/4890772383989760/lesson/ab839bf8a2d572ac14d3e9d71299e645?ref=outlook-calendar
STATUS:CONFIRMED
SEQUENCE:3
BEGIN:VALARM
TRIGGER:-PT10M
DESCRIPTION:Class Reminder
ACTION:DISPLAY
END:VALARM
END:VEVENT
END:VCALENDAR