BEGIN:VCALENDAR
VERSION:2.0
CALSCALE:GREGORIAN
BEGIN:VEVENT
URL:https://www.learndesk.us/class/4890772383989760/lesson/943c1c08a3b0f4d57ec38fe0e508a4af?ref=outlook-calendar
SUMMARY:Video - Create a Heads-up Display Using BgInfo
DTSTART;TZID=America/Los_Angeles:20260421T190000
DTEND;TZID=America/Los_Angeles:20260421T200000
LOCATION:https://www.learndesk.us/class/4890772383989760/lesson/943c1c08a3b0f4d57ec38fe0e508a4af?ref=outlook-calendar
DESCRIPTION: In this short video presentation, you will learn how to easily add a heads-up display showing your server or workstation's current information.

https://www.learndesk.us/class/4890772383989760/lesson/943c1c08a3b0f4d57ec38fe0e508a4af?ref=outlook-calendar
STATUS:CONFIRMED
SEQUENCE:3
BEGIN:VALARM
TRIGGER:-PT10M
DESCRIPTION:Class Reminder
ACTION:DISPLAY
END:VALARM
END:VEVENT
END:VCALENDAR