BEGIN:VCALENDAR
VERSION:2.0
CALSCALE:GREGORIAN
BEGIN:VEVENT
URL:https://www.learndesk.us/class/4890772383989760/lesson/78a02c7126b826a9402a81cc61da07c4?ref=outlook-calendar
SUMMARY:Lab - Network diagram and configuration
DTSTART;TZID=America/Los_Angeles:20260421T190000
DTEND;TZID=America/Los_Angeles:20260421T200000
LOCATION:https://www.learndesk.us/class/4890772383989760/lesson/78a02c7126b826a9402a81cc61da07c4?ref=outlook-calendar
DESCRIPTION: Network and configuration diagram for setting up your lab environment.

https://www.learndesk.us/class/4890772383989760/lesson/78a02c7126b826a9402a81cc61da07c4?ref=outlook-calendar
STATUS:CONFIRMED
SEQUENCE:3
BEGIN:VALARM
TRIGGER:-PT10M
DESCRIPTION:Class Reminder
ACTION:DISPLAY
END:VALARM
END:VEVENT
END:VCALENDAR