BEGIN:VCALENDAR
VERSION:2.0
CALSCALE:GREGORIAN
BEGIN:VEVENT
URL:https://www.learndesk.us/class/4890772383989760/lesson/7053f458ba96199569a5bc7b24f2d65c?ref=outlook-calendar
SUMMARY:Video - Create a Virtual Install of  Windows 10 VirtualBox
DTSTART;TZID=America/Los_Angeles:20260421T190000
DTEND;TZID=America/Los_Angeles:20260421T200000
LOCATION:https://www.learndesk.us/class/4890772383989760/lesson/7053f458ba96199569a5bc7b24f2d65c?ref=outlook-calendar
DESCRIPTION: In this short video, you will learn how to create a virtual install of Windows 10 using VirtualBox

https://www.learndesk.us/class/4890772383989760/lesson/7053f458ba96199569a5bc7b24f2d65c?ref=outlook-calendar
STATUS:CONFIRMED
SEQUENCE:3
BEGIN:VALARM
TRIGGER:-PT10M
DESCRIPTION:Class Reminder
ACTION:DISPLAY
END:VALARM
END:VEVENT
END:VCALENDAR