BEGIN:VCALENDAR
VERSION:2.0
CALSCALE:GREGORIAN
BEGIN:VEVENT
URL:https://www.learndesk.us/class/4890772383989760/lesson/695cab2bdf76f87d6794ac1af2135e3c?ref=outlook-calendar
SUMMARY:Video - Create a Virtual Install of Server 2019 Core Using VirtualBox
DTSTART;TZID=America/Los_Angeles:20260421T190000
DTEND;TZID=America/Los_Angeles:20260421T200000
LOCATION:https://www.learndesk.us/class/4890772383989760/lesson/695cab2bdf76f87d6794ac1af2135e3c?ref=outlook-calendar
DESCRIPTION: In this short video, you will learn how to create a virtual Install of Server 2019 Core Using VirtualBox.

https://www.learndesk.us/class/4890772383989760/lesson/695cab2bdf76f87d6794ac1af2135e3c?ref=outlook-calendar
STATUS:CONFIRMED
SEQUENCE:3
BEGIN:VALARM
TRIGGER:-PT10M
DESCRIPTION:Class Reminder
ACTION:DISPLAY
END:VALARM
END:VEVENT
END:VCALENDAR