BEGIN:VCALENDAR
VERSION:2.0
CALSCALE:GREGORIAN
BEGIN:VEVENT
URL:https://www.learndesk.us/class/4890772383989760/lesson/644e4137b6c85e08eeb958547010bd0c?ref=outlook-calendar
SUMMARY:Video - How to create and link a group policy to an OU
DTSTART;TZID=America/Los_Angeles:20260421T190000
DTEND;TZID=America/Los_Angeles:20260421T200000
LOCATION:https://www.learndesk.us/class/4890772383989760/lesson/644e4137b6c85e08eeb958547010bd0c?ref=outlook-calendar
DESCRIPTION: In this short video, you will learn how to link a GPO to an OU.

https://www.learndesk.us/class/4890772383989760/lesson/644e4137b6c85e08eeb958547010bd0c?ref=outlook-calendar
STATUS:CONFIRMED
SEQUENCE:3
BEGIN:VALARM
TRIGGER:-PT10M
DESCRIPTION:Class Reminder
ACTION:DISPLAY
END:VALARM
END:VEVENT
END:VCALENDAR