BEGIN:VCALENDAR
VERSION:2.0
CALSCALE:GREGORIAN
BEGIN:VEVENT
URL:https://www.learndesk.us/class/4890772383989760/lesson/5fa9d65bed4543beb0906362658dd921?ref=outlook-calendar
SUMMARY:Video - Rearm the 180-day Evaluation Period for Windows Server
DTSTART;TZID=America/Los_Angeles:20260421T190000
DTEND;TZID=America/Los_Angeles:20260421T200000
LOCATION:https://www.learndesk.us/class/4890772383989760/lesson/5fa9d65bed4543beb0906362658dd921?ref=outlook-calendar
DESCRIPTION: In this short video presentation, you will quickly learn how to rearm your Windows Server 2012, 2016, or 2019 for another 180 days of evaluation. You can rearm the evaluation period 6 times. (180 days * 6 = 3 years).

https://www.learndesk.us/class/4890772383989760/lesson/5fa9d65bed4543beb0906362658dd921?ref=outlook-calendar
STATUS:CONFIRMED
SEQUENCE:3
BEGIN:VALARM
TRIGGER:-PT10M
DESCRIPTION:Class Reminder
ACTION:DISPLAY
END:VALARM
END:VEVENT
END:VCALENDAR