BEGIN:VCALENDAR
VERSION:2.0
CALSCALE:GREGORIAN
BEGIN:VEVENT
URL:https://www.learndesk.us/class/4890772383989760/lesson/5c13da66fab5a1f936fca3c35e26f2d8?ref=outlook-calendar
SUMMARY:Video - Limit logon hours for a  user in Windows Active Directory
DTSTART;TZID=America/Los_Angeles:20260421T190000
DTEND;TZID=America/Los_Angeles:20260421T200000
LOCATION:https://www.learndesk.us/class/4890772383989760/lesson/5c13da66fab5a1f936fca3c35e26f2d8?ref=outlook-calendar
DESCRIPTION: In this short video presentation, you will learn how to limit logon hours for users in Active Directory

https://www.learndesk.us/class/4890772383989760/lesson/5c13da66fab5a1f936fca3c35e26f2d8?ref=outlook-calendar
STATUS:CONFIRMED
SEQUENCE:3
BEGIN:VALARM
TRIGGER:-PT10M
DESCRIPTION:Class Reminder
ACTION:DISPLAY
END:VALARM
END:VEVENT
END:VCALENDAR