BEGIN:VCALENDAR
VERSION:2.0
CALSCALE:GREGORIAN
BEGIN:VEVENT
URL:https://www.learndesk.us/class/4890772383989760/lesson/3a388bc58cf470be74dafb79f5008626?ref=outlook-calendar
SUMMARY:Step 1: Rename Your Server Using Powershell
DTSTART;TZID=America/Los_Angeles:20260421T190000
DTEND;TZID=America/Los_Angeles:20260421T200000
LOCATION:https://www.learndesk.us/class/4890772383989760/lesson/3a388bc58cf470be74dafb79f5008626?ref=outlook-calendar
DESCRIPTION: In this short video presentation, you will learn how to rename your Server 2019 installation prior to promoting to a domain controller.

https://www.learndesk.us/class/4890772383989760/lesson/3a388bc58cf470be74dafb79f5008626?ref=outlook-calendar
STATUS:CONFIRMED
SEQUENCE:3
BEGIN:VALARM
TRIGGER:-PT10M
DESCRIPTION:Class Reminder
ACTION:DISPLAY
END:VALARM
END:VEVENT
END:VCALENDAR