BEGIN:VCALENDAR
VERSION:2.0
CALSCALE:GREGORIAN
BEGIN:VEVENT
URL:https://www.learndesk.us/class/4890772383989760/lesson/32910222ed7aa68c15a65aa3d9a7f631?ref=outlook-calendar
SUMMARY:Video - Windows Server 2019 Updates Settings
DTSTART;TZID=America/Los_Angeles:20260421T190000
DTEND;TZID=America/Los_Angeles:20260421T200000
LOCATION:https://www.learndesk.us/class/4890772383989760/lesson/32910222ed7aa68c15a65aa3d9a7f631?ref=outlook-calendar
DESCRIPTION: In this short video presentation, you will learn how to manage and optimize your Windows Updates settings and options.

https://www.learndesk.us/class/4890772383989760/lesson/32910222ed7aa68c15a65aa3d9a7f631?ref=outlook-calendar
STATUS:CONFIRMED
SEQUENCE:3
BEGIN:VALARM
TRIGGER:-PT10M
DESCRIPTION:Class Reminder
ACTION:DISPLAY
END:VALARM
END:VEVENT
END:VCALENDAR