BEGIN:VCALENDAR
VERSION:2.0
CALSCALE:GREGORIAN
BEGIN:VEVENT
URL:https://www.learndesk.us/class/4890772383989760/lesson/12dd62e69cf031d23facf6b18f798335?ref=outlook-calendar
SUMMARY:Video - Prevent automatic logoff due to inactivity
DTSTART;TZID=America/Los_Angeles:20260421T190000
DTEND;TZID=America/Los_Angeles:20260421T200000
LOCATION:https://www.learndesk.us/class/4890772383989760/lesson/12dd62e69cf031d23facf6b18f798335?ref=outlook-calendar
DESCRIPTION: In this video, you will learn how to prevent Server 2016 from logging you off after so many minutes of inactivity. 

Use the following bread crumbs to find the setting using the GP template for Domain Controllers.

Computer Configuration -> Policies -> Windows Settings -> Security Settings -> Local Policies -> Security Options -> Interactive logon: Machine inactivity limit

For a standalone server, use the local security policy with the above bread crumbs.

https://www.learndesk.us/class/4890772383989760/lesson/12dd62e69cf031d23facf6b18f798335?ref=outlook-calendar
STATUS:CONFIRMED
SEQUENCE:3
BEGIN:VALARM
TRIGGER:-PT10M
DESCRIPTION:Class Reminder
ACTION:DISPLAY
END:VALARM
END:VEVENT
END:VCALENDAR