BEGIN:VCALENDAR
VERSION:2.0
CALSCALE:GREGORIAN
BEGIN:VEVENT
URL:https://www.learndesk.us/class/4890772383989760/lesson/0dba484594601a3c5f21a19e53f88be2?ref=outlook-calendar
SUMMARY:Lab – Preparing Server 2019 for Promotion to a Domain Controller
DTSTART;TZID=America/Los_Angeles:20260421T190000
DTEND;TZID=America/Los_Angeles:20260421T200000
LOCATION:https://www.learndesk.us/class/4890772383989760/lesson/0dba484594601a3c5f21a19e53f88be2?ref=outlook-calendar
DESCRIPTION: In this lab, you will learn how to prepare Server 2019 for promotion to a domain controller. The method demonstrated in this lab is the same method used in the real world to quickly get a domain controller up and running with as few steps as possible.

https://www.learndesk.us/class/4890772383989760/lesson/0dba484594601a3c5f21a19e53f88be2?ref=outlook-calendar
STATUS:CONFIRMED
SEQUENCE:3
BEGIN:VALARM
TRIGGER:-PT10M
DESCRIPTION:Class Reminder
ACTION:DISPLAY
END:VALARM
END:VEVENT
END:VCALENDAR