BEGIN:VCALENDAR
VERSION:2.0
CALSCALE:GREGORIAN
BEGIN:VEVENT
URL:https://www.learndesk.us/class/4890772383989760/lesson/0dab17325c5d49d45f738b15e495ed79?ref=outlook-calendar
SUMMARY:Video - Limit computers a user can log onto
DTSTART;TZID=America/Los_Angeles:20260421T190000
DTEND;TZID=America/Los_Angeles:20260421T200000
LOCATION:https://www.learndesk.us/class/4890772383989760/lesson/0dab17325c5d49d45f738b15e495ed79?ref=outlook-calendar
DESCRIPTION: In this short video presentation, you will learn how to limit the hours a user can logon to the domain.

https://www.learndesk.us/class/4890772383989760/lesson/0dab17325c5d49d45f738b15e495ed79?ref=outlook-calendar
STATUS:CONFIRMED
SEQUENCE:3
BEGIN:VALARM
TRIGGER:-PT10M
DESCRIPTION:Class Reminder
ACTION:DISPLAY
END:VALARM
END:VEVENT
END:VCALENDAR