BEGIN:VCALENDAR
VERSION:2.0
CALSCALE:GREGORIAN
BEGIN:VEVENT
URL:https://www.learndesk.us/class/4890772383989760/lesson/0da2bf710ae981225028209fc537ac46?ref=outlook-calendar
SUMMARY:Video - Create a Virtual Install of Server 2019 Full GUI
DTSTART;TZID=America/Los_Angeles:20260421T190000
DTEND;TZID=America/Los_Angeles:20260421T200000
LOCATION:https://www.learndesk.us/class/4890772383989760/lesson/0da2bf710ae981225028209fc537ac46?ref=outlook-calendar
DESCRIPTION: In this short video, you will learn how to create a virtual install of Server 2019 with the full desktop experience.

https://www.learndesk.us/class/4890772383989760/lesson/0da2bf710ae981225028209fc537ac46?ref=outlook-calendar
STATUS:CONFIRMED
SEQUENCE:3
BEGIN:VALARM
TRIGGER:-PT10M
DESCRIPTION:Class Reminder
ACTION:DISPLAY
END:VALARM
END:VEVENT
END:VCALENDAR