BEGIN:VCALENDAR
VERSION:2.0
CALSCALE:GREGORIAN
BEGIN:VEVENT
URL:https://www.learndesk.us/class/4890772383989760/lesson/008c3eb431c5940c8fdec88ecbb43d54?ref=outlook-calendar
SUMMARY:Building a Windows Server 2019 Domain Using Powershell
DTSTART;TZID=America/Los_Angeles:20260421T190000
DTEND;TZID=America/Los_Angeles:20260421T200000
LOCATION:https://www.learndesk.us/class/4890772383989760/lesson/008c3eb431c5940c8fdec88ecbb43d54?ref=outlook-calendar
DESCRIPTION: How to build a Server 2019 a forest domain using PowerShell. The steps demonstrated in this section apply to Server 2012, 2016, and 2019.

https://www.learndesk.us/class/4890772383989760/lesson/008c3eb431c5940c8fdec88ecbb43d54?ref=outlook-calendar
STATUS:CONFIRMED
SEQUENCE:3
BEGIN:VALARM
TRIGGER:-PT10M
DESCRIPTION:Class Reminder
ACTION:DISPLAY
END:VALARM
END:VEVENT
END:VCALENDAR