BEGIN:VCALENDAR
VERSION:2.0
CALSCALE:GREGORIAN
BEGIN:VEVENT
URL:https://www.learndesk.us/class/4890772383989760/microsoft-windows-server-2019-hands-on-training-part-i?ref=outlook-calendar
SUMMARY:Microsoft Windows Server 2019: Hands-on Training - Part I
DTSTART;TZID=America/Los_Angeles:20260421T190000
DTEND;TZID=America/Los_Angeles:20260421T200000
LOCATION:https://www.learndesk.us/class/4890772383989760/microsoft-windows-server-2019-hands-on-training-part-i?ref=outlook-calendar
DESCRIPTION: This course is designed for speed learning Server 2019. The course is broken down into bite-size, manageable chunks with most of the video tutorials being less than 5 minutes long and any tutorial over 5 minutes comes with a lab file to easily follow along with.
Open your virtual machine, follow along using a short, very concise video tutorial, move on to the next video, repeat. 
Do you want to learn how to install and configure Microsoft Windows Server 2019?
Do you prefer learning using hands-on as opposed to just a lecture and quiz?
If you have answered YES to the above questions, then you are at the right place.
The course is structured using short tutorial videos and hands-on labs. Students open up their VM of Server 2019, watch a short video tutorial and complete the lab and move to the next tutorial.   
Students who take and complete this course will be able to install and configure build a Microsoft Windows Server 2019  domain complete with Active Directory, DNS, DHCP, Group...

https://www.learndesk.us/class/4890772383989760/microsoft-windows-server-2019-hands-on-training-part-i?ref=outlook-calendar
STATUS:CONFIRMED
SEQUENCE:3
BEGIN:VALARM
TRIGGER:-PT10M
DESCRIPTION:Class Reminder
ACTION:DISPLAY
END:VALARM
END:VEVENT
END:VCALENDAR