BEGIN:VCALENDAR
VERSION:2.0
CALSCALE:GREGORIAN
BEGIN:VEVENT
URL:https://www.learndesk.us/class/4888656156295168/lesson/ec526c40c13bf924e9db75b4f8ee2c18?ref=outlook-calendar
SUMMARY:Left, Right and Cross Joins
DTSTART;TZID=America/Los_Angeles:20260420T190000
DTEND;TZID=America/Los_Angeles:20260420T200000
LOCATION:https://www.learndesk.us/class/4888656156295168/lesson/ec526c40c13bf924e9db75b4f8ee2c18?ref=outlook-calendar
DESCRIPTION: https://www.learndesk.us/class/4888656156295168/lesson/ec526c40c13bf924e9db75b4f8ee2c18?ref=outlook-calendar
STATUS:CONFIRMED
SEQUENCE:3
BEGIN:VALARM
TRIGGER:-PT10M
DESCRIPTION:Class Reminder
ACTION:DISPLAY
END:VALARM
END:VEVENT
END:VCALENDAR