BEGIN:VCALENDAR
VERSION:2.0
CALSCALE:GREGORIAN
BEGIN:VEVENT
URL:https://www.learndesk.us/class/4888656156295168/lesson/e19ac7b2b4f7b7ddbf4d86b3d79b4cb0?ref=outlook-calendar
SUMMARY:Grouping Data using SQL GROUP BY Clause
DTSTART;TZID=America/Los_Angeles:20260420T190000
DTEND;TZID=America/Los_Angeles:20260420T200000
LOCATION:https://www.learndesk.us/class/4888656156295168/lesson/e19ac7b2b4f7b7ddbf4d86b3d79b4cb0?ref=outlook-calendar
DESCRIPTION: https://www.learndesk.us/class/4888656156295168/lesson/e19ac7b2b4f7b7ddbf4d86b3d79b4cb0?ref=outlook-calendar
STATUS:CONFIRMED
SEQUENCE:3
BEGIN:VALARM
TRIGGER:-PT10M
DESCRIPTION:Class Reminder
ACTION:DISPLAY
END:VALARM
END:VEVENT
END:VCALENDAR