BEGIN:VCALENDAR
VERSION:2.0
CALSCALE:GREGORIAN
BEGIN:VEVENT
URL:https://www.learndesk.us/class/4888656156295168/lesson/8d3f5d5fe9b28ac86a4b5200dd9cb546?ref=outlook-calendar
SUMMARY:Insert Data into the Table with SQL Script
DTSTART;TZID=America/Los_Angeles:20260422T190000
DTEND;TZID=America/Los_Angeles:20260422T200000
LOCATION:https://www.learndesk.us/class/4888656156295168/lesson/8d3f5d5fe9b28ac86a4b5200dd9cb546?ref=outlook-calendar
DESCRIPTION: https://www.learndesk.us/class/4888656156295168/lesson/8d3f5d5fe9b28ac86a4b5200dd9cb546?ref=outlook-calendar
STATUS:CONFIRMED
SEQUENCE:3
BEGIN:VALARM
TRIGGER:-PT10M
DESCRIPTION:Class Reminder
ACTION:DISPLAY
END:VALARM
END:VEVENT
END:VCALENDAR