BEGIN:VCALENDAR
VERSION:2.0
CALSCALE:GREGORIAN
BEGIN:VEVENT
URL:https://www.learndesk.us/class/4888656156295168/lesson/64c5d710645b414291a6067ce476dbea?ref=outlook-calendar
SUMMARY:Introduction to MySQL Server and Databases
DTSTART;TZID=America/Los_Angeles:20260422T190000
DTEND;TZID=America/Los_Angeles:20260422T200000
LOCATION:https://www.learndesk.us/class/4888656156295168/lesson/64c5d710645b414291a6067ce476dbea?ref=outlook-calendar
DESCRIPTION: https://www.learndesk.us/class/4888656156295168/lesson/64c5d710645b414291a6067ce476dbea?ref=outlook-calendar
STATUS:CONFIRMED
SEQUENCE:3
BEGIN:VALARM
TRIGGER:-PT10M
DESCRIPTION:Class Reminder
ACTION:DISPLAY
END:VALARM
END:VEVENT
END:VCALENDAR