BEGIN:VCALENDAR
VERSION:2.0
CALSCALE:GREGORIAN
BEGIN:VEVENT
URL:https://www.learndesk.us/class/4888656156295168/lesson/4dda6fa6dd7592847b1d2f50d8c7e9a8?ref=outlook-calendar
SUMMARY:SQL MIN & MAX Aggregate Functions
DTSTART;TZID=America/Los_Angeles:20260420T190000
DTEND;TZID=America/Los_Angeles:20260420T200000
LOCATION:https://www.learndesk.us/class/4888656156295168/lesson/4dda6fa6dd7592847b1d2f50d8c7e9a8?ref=outlook-calendar
DESCRIPTION: https://www.learndesk.us/class/4888656156295168/lesson/4dda6fa6dd7592847b1d2f50d8c7e9a8?ref=outlook-calendar
STATUS:CONFIRMED
SEQUENCE:3
BEGIN:VALARM
TRIGGER:-PT10M
DESCRIPTION:Class Reminder
ACTION:DISPLAY
END:VALARM
END:VEVENT
END:VCALENDAR