BEGIN:VCALENDAR
VERSION:2.0
CALSCALE:GREGORIAN
BEGIN:VEVENT
URL:https://www.learndesk.us/class/4862380733366272/lesson/752a14e92b678aa56323b1cc77d2317a?ref=outlook-calendar
SUMMARY:The 5 Cardinal Rules of Resumes
DTSTART;TZID=America/Los_Angeles:20260420T190000
DTEND;TZID=America/Los_Angeles:20260420T200000
LOCATION:https://www.learndesk.us/class/4862380733366272/lesson/752a14e92b678aa56323b1cc77d2317a?ref=outlook-calendar
DESCRIPTION: https://www.learndesk.us/class/4862380733366272/lesson/752a14e92b678aa56323b1cc77d2317a?ref=outlook-calendar
STATUS:CONFIRMED
SEQUENCE:3
BEGIN:VALARM
TRIGGER:-PT10M
DESCRIPTION:Class Reminder
ACTION:DISPLAY
END:VALARM
END:VEVENT
END:VCALENDAR