BEGIN:VCALENDAR
VERSION:2.0
CALSCALE:GREGORIAN
BEGIN:VEVENT
URL:https://www.learndesk.us/class/4845447623475200/lesson/d4c60a07ffaa1dfbb1c321aa1ad4accb?ref=outlook-calendar
SUMMARY:JavaScript Part-2 - Operators, Conditional
DTSTART;TZID=America/Los_Angeles:20260424T190000
DTEND;TZID=America/Los_Angeles:20260424T200000
LOCATION:https://www.learndesk.us/class/4845447623475200/lesson/d4c60a07ffaa1dfbb1c321aa1ad4accb?ref=outlook-calendar
DESCRIPTION: https://www.learndesk.us/class/4845447623475200/lesson/d4c60a07ffaa1dfbb1c321aa1ad4accb?ref=outlook-calendar
STATUS:CONFIRMED
SEQUENCE:3
BEGIN:VALARM
TRIGGER:-PT10M
DESCRIPTION:Class Reminder
ACTION:DISPLAY
END:VALARM
END:VEVENT
END:VCALENDAR