BEGIN:VCALENDAR
VERSION:2.0
CALSCALE:GREGORIAN
BEGIN:VEVENT
URL:https://www.learndesk.us/class/4845447623475200/lesson/3ffdfe60b52923ff95fa6720d936fe91?ref=outlook-calendar
SUMMARY:Part-3 HTML - Frame, Frameset
DTSTART;TZID=America/Los_Angeles:20260424T190000
DTEND;TZID=America/Los_Angeles:20260424T200000
LOCATION:https://www.learndesk.us/class/4845447623475200/lesson/3ffdfe60b52923ff95fa6720d936fe91?ref=outlook-calendar
DESCRIPTION: https://www.learndesk.us/class/4845447623475200/lesson/3ffdfe60b52923ff95fa6720d936fe91?ref=outlook-calendar
STATUS:CONFIRMED
SEQUENCE:3
BEGIN:VALARM
TRIGGER:-PT10M
DESCRIPTION:Class Reminder
ACTION:DISPLAY
END:VALARM
END:VEVENT
END:VCALENDAR