BEGIN:VCALENDAR
VERSION:2.0
CALSCALE:GREGORIAN
BEGIN:VEVENT
URL:https://www.learndesk.us/class/4845447623475200/full-stack-web-development?ref=outlook-calendar
SUMMARY:Full-Stack Web Development
DTSTART;TZID=America/Los_Angeles:20260424T190000
DTEND;TZID=America/Los_Angeles:20260424T200000
LOCATION:https://www.learndesk.us/class/4845447623475200/full-stack-web-development?ref=outlook-calendar
DESCRIPTION: 
This course is about full-stack web development where we would cover 3 fundamental front-end languages HTML5, CSS3, and JavaScript required for client-side static web development, and learn back-end languages PHP7, SQL with MySQL.
We would cover all the languages and test them by writing files, and sample projects like login page, extracting information from the database, HTML form, etc.
After learning all the key scripting languages we would develop our website and would then deploy it on the internet.


https://www.learndesk.us/class/4845447623475200/full-stack-web-development?ref=outlook-calendar
STATUS:CONFIRMED
SEQUENCE:3
BEGIN:VALARM
TRIGGER:-PT10M
DESCRIPTION:Class Reminder
ACTION:DISPLAY
END:VALARM
END:VEVENT
END:VCALENDAR