BEGIN:VCALENDAR
VERSION:2.0
CALSCALE:GREGORIAN
BEGIN:VEVENT
URL:https://www.learndesk.us/class/4813643390648320/lesson/8b13f02d2c5dbd6069a53f39d2aeb482?ref=outlook-calendar
SUMMARY:What is a Heart Attack and Complications
DTSTART;TZID=America/Los_Angeles:20260420T190000
DTEND;TZID=America/Los_Angeles:20260420T200000
LOCATION:https://www.learndesk.us/class/4813643390648320/lesson/8b13f02d2c5dbd6069a53f39d2aeb482?ref=outlook-calendar
DESCRIPTION: https://www.learndesk.us/class/4813643390648320/lesson/8b13f02d2c5dbd6069a53f39d2aeb482?ref=outlook-calendar
STATUS:CONFIRMED
SEQUENCE:3
BEGIN:VALARM
TRIGGER:-PT10M
DESCRIPTION:Class Reminder
ACTION:DISPLAY
END:VALARM
END:VEVENT
END:VCALENDAR