BEGIN:VCALENDAR
VERSION:2.0
CALSCALE:GREGORIAN
BEGIN:VEVENT
URL:https://www.learndesk.us/class/4813643390648320/lesson/2189648035eca07c51924a28f5c019a1?ref=outlook-calendar
SUMMARY:Emergency Care for a Heart Attack
DTSTART;TZID=America/Los_Angeles:20260422T190000
DTEND;TZID=America/Los_Angeles:20260422T200000
LOCATION:https://www.learndesk.us/class/4813643390648320/lesson/2189648035eca07c51924a28f5c019a1?ref=outlook-calendar
DESCRIPTION: https://www.learndesk.us/class/4813643390648320/lesson/2189648035eca07c51924a28f5c019a1?ref=outlook-calendar
STATUS:CONFIRMED
SEQUENCE:3
BEGIN:VALARM
TRIGGER:-PT10M
DESCRIPTION:Class Reminder
ACTION:DISPLAY
END:VALARM
END:VEVENT
END:VCALENDAR