BEGIN:VCALENDAR
VERSION:2.0
CALSCALE:GREGORIAN
BEGIN:VEVENT
URL:https://www.learndesk.us/class/4796584787181568/lesson/ec923062ad2d08f238633412f6939026?ref=outlook-calendar
SUMMARY:Creating the Courses Page
DTSTART;TZID=America/Los_Angeles:20260422T190000
DTEND;TZID=America/Los_Angeles:20260422T200000
LOCATION:https://www.learndesk.us/class/4796584787181568/lesson/ec923062ad2d08f238633412f6939026?ref=outlook-calendar
DESCRIPTION: Creating the courses page and populating the course table data with live data from the MongoDB database.

Query course data collection using the command Course.objects.all()



https://www.learndesk.us/class/4796584787181568/lesson/ec923062ad2d08f238633412f6939026?ref=outlook-calendar
STATUS:CONFIRMED
SEQUENCE:3
BEGIN:VALARM
TRIGGER:-PT10M
DESCRIPTION:Class Reminder
ACTION:DISPLAY
END:VALARM
END:VEVENT
END:VCALENDAR