BEGIN:VCALENDAR
VERSION:2.0
CALSCALE:GREGORIAN
BEGIN:VEVENT
URL:https://www.learndesk.us/class/4796584787181568/lesson/decd1a1aaa7aee49702e4ccc00d027f7?ref=outlook-calendar
SUMMARY:Processing Form Data and Updating the Database
DTSTART;TZID=America/Los_Angeles:20260422T190000
DTEND;TZID=America/Los_Angeles:20260422T200000
LOCATION:https://www.learndesk.us/class/4796584787181568/lesson/decd1a1aaa7aee49702e4ccc00d027f7?ref=outlook-calendar
DESCRIPTION: Processing form data and securing password using a hashing mechanism.

Hash sensitive data using Werkzeug’s library
Hash with generate_password_hash and unhash with check_password_hash



https://www.learndesk.us/class/4796584787181568/lesson/decd1a1aaa7aee49702e4ccc00d027f7?ref=outlook-calendar
STATUS:CONFIRMED
SEQUENCE:3
BEGIN:VALARM
TRIGGER:-PT10M
DESCRIPTION:Class Reminder
ACTION:DISPLAY
END:VALARM
END:VEVENT
END:VCALENDAR