BEGIN:VCALENDAR
VERSION:2.0
CALSCALE:GREGORIAN
BEGIN:VEVENT
URL:https://www.learndesk.us/class/4796584787181568/lesson/dcec3017fa1d0cf46600f1721c800ee1?ref=outlook-calendar
SUMMARY:Creating Child Templates
DTSTART;TZID=America/Los_Angeles:20260422T190000
DTEND;TZID=America/Los_Angeles:20260422T200000
LOCATION:https://www.learndesk.us/class/4796584787181568/lesson/dcec3017fa1d0cf46600f1721c800ee1?ref=outlook-calendar
DESCRIPTION: Refactoring the home page template to inherit the base template.

Inherit the base template using the extends tag
Place content within the block content tags



https://www.learndesk.us/class/4796584787181568/lesson/dcec3017fa1d0cf46600f1721c800ee1?ref=outlook-calendar
STATUS:CONFIRMED
SEQUENCE:3
BEGIN:VALARM
TRIGGER:-PT10M
DESCRIPTION:Class Reminder
ACTION:DISPLAY
END:VALARM
END:VEVENT
END:VCALENDAR