BEGIN:VCALENDAR
VERSION:2.0
CALSCALE:GREGORIAN
BEGIN:VEVENT
URL:https://www.learndesk.us/class/4796584787181568/lesson/d4c5200fc0b9e3d0fc4388ad262445d8?ref=outlook-calendar
SUMMARY:Installing Python and Flask
DTSTART;TZID=America/Los_Angeles:20260422T190000
DTEND;TZID=America/Los_Angeles:20260422T200000
LOCATION:https://www.learndesk.us/class/4796584787181568/lesson/d4c5200fc0b9e3d0fc4388ad262445d8?ref=outlook-calendar
DESCRIPTION: 
In this video, we install the latest stable versions of Python, Flask, Python package manager (pip), and a virtual environment tool called virtualenv.


Verify installation of Python, Flask, and pip




https://www.learndesk.us/class/4796584787181568/lesson/d4c5200fc0b9e3d0fc4388ad262445d8?ref=outlook-calendar
STATUS:CONFIRMED
SEQUENCE:3
BEGIN:VALARM
TRIGGER:-PT10M
DESCRIPTION:Class Reminder
ACTION:DISPLAY
END:VALARM
END:VEVENT
END:VCALENDAR