BEGIN:VCALENDAR
VERSION:2.0
CALSCALE:GREGORIAN
BEGIN:VEVENT
URL:https://www.learndesk.us/class/4796584787181568/lesson/d3d466841e2483097b79fd89cb14576b?ref=outlook-calendar
SUMMARY:Configuring Flask
DTSTART;TZID=America/Los_Angeles:20260422T190000
DTEND;TZID=America/Los_Angeles:20260422T200000
LOCATION:https://www.learndesk.us/class/4796584787181568/lesson/d3d466841e2483097b79fd89cb14576b?ref=outlook-calendar
DESCRIPTION: 
In this video, we are creating and preparing the Flask framework by creating the project folder and a virtual environment.

Setup environment variables
Install Flask-WTF extension



https://www.learndesk.us/class/4796584787181568/lesson/d3d466841e2483097b79fd89cb14576b?ref=outlook-calendar
STATUS:CONFIRMED
SEQUENCE:3
BEGIN:VALARM
TRIGGER:-PT10M
DESCRIPTION:Class Reminder
ACTION:DISPLAY
END:VALARM
END:VEVENT
END:VCALENDAR