BEGIN:VCALENDAR
VERSION:2.0
CALSCALE:GREGORIAN
BEGIN:VEVENT
URL:https://www.learndesk.us/class/4796584787181568/lesson/ce22f7336f628364e9307e3df9b7fd5f?ref=outlook-calendar
SUMMARY:Installing Postman and Flask-RESTPlus Extension
DTSTART;TZID=America/Los_Angeles:20260422T190000
DTEND;TZID=America/Los_Angeles:20260422T200000
LOCATION:https://www.learndesk.us/class/4796584787181568/lesson/ce22f7336f628364e9307e3df9b7fd5f?ref=outlook-calendar
DESCRIPTION: Creating and testing REST APIs by installing Postman desktop application and Flask-RESTPlus extension.

Download Postman and install Flask-RESTPlus via pip
Run Postman and login by creating a free account or using an existing Google account



https://www.learndesk.us/class/4796584787181568/lesson/ce22f7336f628364e9307e3df9b7fd5f?ref=outlook-calendar
STATUS:CONFIRMED
SEQUENCE:3
BEGIN:VALARM
TRIGGER:-PT10M
DESCRIPTION:Class Reminder
ACTION:DISPLAY
END:VALARM
END:VEVENT
END:VCALENDAR