BEGIN:VCALENDAR
VERSION:2.0
CALSCALE:GREGORIAN
BEGIN:VEVENT
URL:https://www.learndesk.us/class/4796584787181568/lesson/c86868137f795258c27db863e49bd8ce?ref=outlook-calendar
SUMMARY:Creating Sessions and Authentication
DTSTART;TZID=America/Los_Angeles:20260422T190000
DTEND;TZID=America/Los_Angeles:20260422T200000
LOCATION:https://www.learndesk.us/class/4796584787181568/lesson/c86868137f795258c27db863e49bd8ce?ref=outlook-calendar
DESCRIPTION: Managing state and user authentication using Flask-Session.

Create a session using session[]
Retrieve session value using session.get() method



https://www.learndesk.us/class/4796584787181568/lesson/c86868137f795258c27db863e49bd8ce?ref=outlook-calendar
STATUS:CONFIRMED
SEQUENCE:3
BEGIN:VALARM
TRIGGER:-PT10M
DESCRIPTION:Class Reminder
ACTION:DISPLAY
END:VALARM
END:VEVENT
END:VCALENDAR